BEGIN:VCALENDAR
PRODID:NingEventWidget-v1
VERSION:2.0
METHOD:PUBLISH
BEGIN:VTIMEZONE
TZID:America/Los_Angeles
X-LIC-LOCATION:America/Los_Angeles
BEGIN:DAYLIGHT
TZOFFSETFROM:-0800
TZOFFSETTO:-0700
TZNAME:PDT
DTSTART:19700308T020000
RRULE:FREQ=YEARLY;BYMONTH=3;BYDAY=2SU
END:DAYLIGHT
BEGIN:STANDARD
TZOFFSETFROM:-0700
TZOFFSETTO:-0800
TZNAME:PST
DTSTART:19701101T020000
RRULE:FREQ=YEARLY;BYMONTH=11;BYDAY=1SU
END:STANDARD
END:VTIMEZONE
BEGIN:VEVENT
UID:2615374:Event:42686
DTSTAMP:20260420T053456Z
SUMMARY:Think Pink at TEE for Breast Cancer Awareness
DESCRIPTION:Join us and Dress up yourself and your horse in the most a
 nd classiest pink you can think of for your regular Saturday lesson. 
 Prizes for all participants! Buy a $5 ticket to win a Private lesson! 
 All donations will go to a Breast Cancer foundation. \n\nFor more inf
 ormation visit https://totalequestrianexperience.ning.com/events/think
 -pink-at-tee-for-breast-cancer-awareness
DTSTART;TZID=America/Los_Angeles:20191026T080000
DTEND;TZID=America/Los_Angeles:20191026T150000
CATEGORIES:fundraiser
LOCATION:Chatsworth
WEBSITE:http://RideTEE.com
URL:http://RideTEE.com
CONTACT:
ORGANIZER:Gayle Paperno and Pearl Campbell
ATTACH;FMTTYPE="image/jpeg":
ATTENDEE;ROLE=REQ-PARTICIPANT;PARTSTAT=ACCEPTED;RSVP=TRUE;CN="Christin
 a Lee Miller":https://totalequestrianexperience.ning.com/profile/Chris
 tinaLeeMiller
ATTENDEE;ROLE=REQ-PARTICIPANT;PARTSTAT=ACCEPTED;RSVP=TRUE;CN="Gayle Pa
 perno":https://totalequestrianexperience.ning.com/profile/GaylePaperno
END:VEVENT
END:VCALENDAR
