BEGIN:VCALENDAR
PRODID:NingEventWidget-v1
VERSION:2.0
METHOD:PUBLISH
BEGIN:VTIMEZONE
TZID:America/Los_Angeles
X-LIC-LOCATION:America/Los_Angeles
BEGIN:DAYLIGHT
TZOFFSETFROM:-0800
TZOFFSETTO:-0700
TZNAME:PDT
DTSTART:19700308T020000
RRULE:FREQ=YEARLY;BYMONTH=3;BYDAY=2SU
END:DAYLIGHT
BEGIN:STANDARD
TZOFFSETFROM:-0700
TZOFFSETTO:-0800
TZNAME:PST
DTSTART:19701101T020000
RRULE:FREQ=YEARLY;BYMONTH=11;BYDAY=1SU
END:STANDARD
END:VTIMEZONE
BEGIN:VEVENT
UID:2615374:Event:3003
DTSTAMP:20260421T092809Z
SUMMARY:Cierra Memorial Service
DESCRIPTION:Please join us as we share stories and friendship as we he
 lp Liann and the Tucker family say goodbye to their beloved Cierra. Pl
 ease bring any pictures you may have.\n\nFor more information visit ht
 tp://totalequestrianexperience.ning.com/events/cierra-memorial-service
DTSTART;TZID=America/Los_Angeles:20090307T133000
DTEND;TZID=America/Los_Angeles:20090307T143000
CATEGORIES:memorial
LOCATION:Liann's House
WEBSITE:
URL:
CONTACT:818-723-7919
ORGANIZER;CN="Gayle Paperno":http://totalequestrianexperience.ning.com
 /profile/GaylePaperno
ATTACH;FMTTYPE="image/jpeg":http://storage.ning.com/topology/rest/1.0/
 file/get/3164302814?profile=original
ATTENDEE;ROLE=REQ-PARTICIPANT;PARTSTAT=ACCEPTED;RSVP=TRUE;CN=ash:http:
 //totalequestrianexperience.ning.com/profile/ash
ATTENDEE;ROLE=REQ-PARTICIPANT;PARTSTAT=ACCEPTED;RSVP=TRUE;CN="Jenna Ca
 llaway":http://totalequestrianexperience.ning.com/profile/JennaCallawa
 y
ATTENDEE;ROLE=REQ-PARTICIPANT;PARTSTAT=ACCEPTED;RSVP=TRUE;CN="Gayle Pa
 perno":http://totalequestrianexperience.ning.com/profile/GaylePaperno
END:VEVENT
END:VCALENDAR
